BEGIN:VCALENDAR
VERSION:2.0
PRODID:-//TYPO3/NONSGML News system (news)//EN
BEGIN:VEVENT
UID:news-6792@www.manteslajolie.fr
DTSTAMP:20260413T173327
DTSTART:20260523T140000
DTEND:20260523T150000
SUMMARY:Visite guidée du musée - Nuit européenne des musées 2026
CATEGORIES:Expositions, Musée
DESCRIPTION:Gratuit | Tout public Venez découvrir le musée de 
 l'Hôtel-Dieu, des collections médiévales aux peintures de 
 l'artiste Maximilien Luce.
LOCATION:Musée de l'Hôtel-Dieu
END:VEVENT
END:VCALENDAR