BEGIN:VCALENDAR
VERSION:2.0
PRODID:-//TYPO3/NONSGML News system (news)//EN
BEGIN:VEVENT
UID:news-6680@www.manteslajolie.fr
DTSTAMP:20260224T175301
DTSTART:20260618T120000
DTEND:20260618T170000
SUMMARY:visite du jardin « Les Potes Agés » Suivi d’un Barbecue - 18 juin
CATEGORIES:Festivités
DESCRIPTION:Jeudi 18 juin, venez découvrir le jardin partagé « Les 
 Potes Agés » et profiter d’un barbecue convivial. 
  Initié par les habitants, ce projet favorise le lien 
 social et met en valeur le savoir-faire des seniors du 
 quartier, dans un cadre chaleureux et participatif.
LOCATION:Espace Les Églantines
END:VEVENT
END:VCALENDAR