BEGIN:VCALENDAR
VERSION:2.0
PRODID:-//TYPO3/NONSGML News system (news)//EN
BEGIN:VEVENT
UID:news-6697@www.manteslajolie.fr
DTSTAMP:20260226T163340
DTSTART:20260627T180000
DTEND:20260627T235900
SUMMARY:Tournoi de Mahjong - 27 juin 2026
CATEGORIES:Médiathèques
DESCRIPTION:Gratuit La Médiathèque G.-Duhamel lance un tout nouveau 
 Tournoi de Mahjong !  Trois soirées gratuites et 
 conviviales pour découvrir ou redécouvrir ce jeu 
 stratégique et partager un moment ludique, accessible dès 
 7 ans.
LOCATION:Médiathèque Georges-Duhamel
END:VEVENT
END:VCALENDAR