BEGIN:VCALENDAR
VERSION:2.0
PRODID:-//TYPO3/NONSGML News system (news)//EN
BEGIN:VEVENT
UID:news-6829@www.manteslajolie.fr
DTSTAMP:20260422T163130
DTSTART:20260508T160000
DTEND:20260508T160000
SUMMARY:Théâtre - Rencontre « 1945, le retour » - 8 mai 2026
CATEGORIES:Spectacles
DESCRIPTION:Vendredi 8 mai 2026 à 16h, l’Espace Brassens accueille 
 "1945, le retour," une rencontre théâtrale proposée dans 
 le cadre de Mantais, Mémoires et Résistances.  Gratuit et 
 ouvert à tous, ce rendez-vous invite le public à 
 découvrir un épisode fort de l’après-guerre, suivi 
 d’un temps d’échange convivial avec la compagnie.
LOCATION:Espace Brassens
END:VEVENT
END:VCALENDAR