BEGIN:VCALENDAR
VERSION:2.0
PRODID:-//TYPO3/NONSGML News system (news)//EN
BEGIN:VEVENT
UID:news-6768@www.manteslajolie.fr
DTSTAMP:20260407T170243
DTSTART:20260427T140000
DTEND:20260430T160000
SUMMARY:Stage photos brodées - Ateliers des vacances créatives - Avril 2026
CATEGORIES:Visites guidées / Ateliers / Stages
DESCRIPTION:Dès 10 ans  Plonge dans un atelier où l’image rencontre 
 le fil. Cet atelier t’invite à explorer deux médiums 
 complémentaires : la photographie et la broderie. 
LOCATION:Espace Culturel Le Chaplin
END:VEVENT
END:VCALENDAR