BEGIN:VCALENDAR
VERSION:2.0
PRODID:-//TYPO3/NONSGML News system (news)//EN
BEGIN:VEVENT
UID:news-6769@www.manteslajolie.fr
DTSTAMP:20260407T170159
DTSTART:20260428T140000
DTEND:20260430T160000
SUMMARY:Stage jouets optiques  - Ateliers des vacances créatives - Avril 2026
CATEGORIES:Visites guidées / Ateliers / Stages
DESCRIPTION:Dès 9 ans  Un stage de 3 jours amusant et éducatif pour 
 explorer la magie de l’animation : zootrope, thaumatrope 
 et autres inventions étonnantes qui ont précédé le 
 cinéma.  
LOCATION:Espace Culturel Le Chaplin
END:VEVENT
END:VCALENDAR