BEGIN:VCALENDAR
VERSION:2.0
PRODID:-//TYPO3/NONSGML News system (news)//EN
BEGIN:VEVENT
UID:news-6615@www.manteslajolie.fr
DTSTAMP:20260312T103453
DTSTART:20260606T203000
DTEND:20260606T203000
SUMMARY:Théâtre - LE SONGE D’UNE NUIT D'ÉTÉ - 2026
CATEGORIES:Spectacles
DESCRIPTION:Plongez dans la magie du Songe d’une nuit d’été avec 
 la 3T Compagnie. Cette adaptation tout-terrain de 
 Shakespeare entraîne le public, dès 13 ans, dans une 
 forêt enchantée où amours contrariées, quiproquos et 
 sortilèges se mêlent à un rythme effréné.
LOCATION:Espace Brassens
END:VEVENT
END:VCALENDAR