BEGIN:VCALENDAR
VERSION:2.0
PRODID:-//TYPO3/NONSGML News system (news)//EN
BEGIN:VEVENT
UID:news-6678@www.manteslajolie.fr
DTSTAMP:20260224T174712
DTSTART:20260423T190000
DTEND:20260423T220000
SUMMARY:Soirée jeux, suivi d’un encas partagé - 23 avril 2026
CATEGORIES:Festivités
DESCRIPTION:Le jeudi 23 avril, le CVS Peintres/Médecins vous invite à 
 une Soirée jeux, suivie d’un encas partagé.  Parents, 
 enfants et partenaires sont conviés à un moment convivial 
 pour jouer, échanger et partager un temps de complicité en 
 famille.
LOCATION:Centre de Vie Sociale (CVS) Peintres-Médecins 
END:VEVENT
END:VCALENDAR