BEGIN:VCALENDAR
VERSION:2.0
PRODID:-//TYPO3/NONSGML News system (news)//EN
BEGIN:VEVENT
UID:news-6516@www.manteslajolie.fr
DTSTAMP:20260113T150201
DTSTART:20260619T200000
DTEND:20260619T230000
SUMMARY:Soirée Jeux - 19 juin 2026
CATEGORIES:Famille, Jeunesse, Médiathèques
DESCRIPTION:Tout public dès 6 ans Gratuit En famille ou entres amis, 
 rejoignez la partie !
LOCATION:Médiathèque Louis-Aragon
END:VEVENT
END:VCALENDAR