BEGIN:VCALENDAR
VERSION:2.0
PRODID:-//TYPO3/NONSGML News system (news)//EN
BEGIN:VEVENT
UID:news-6830@www.manteslajolie.fr
DTSTAMP:20260422T163650
DTSTART:20260509T150000
DTEND:20260509T150000
SUMMARY:Rencontre-Dédicaces avec le dessinateur de BD Yan Le Pon - 9 mai 2026
CATEGORIES:Médiathèques, Visites guidées / Ateliers / Stages
DESCRIPTION:Samedi 9 mai, la médiathèque Georges-Duhamel accueille une 
 rencontre-dédicaces avec le dessinateur de BD Yan Le Pon, 
 autour de son album L’Escadron bleu, 1945.  Proposé dans 
 le cadre de Mantais, Mémoires et Résistances, ce 
 rendez-vous gratuit et tout public invite à croiser 
 mémoire, création artistique et transmission.
LOCATION:Médiathèque Georges-Duhamel
END:VEVENT
END:VCALENDAR