BEGIN:VCALENDAR
VERSION:2.0
PRODID:-//TYPO3/NONSGML News system (news)//EN
BEGIN:VEVENT
UID:news-6831@www.manteslajolie.fr
DTSTAMP:20260422T164041
DTSTART:20260530T150000
DTEND:20260530T150000
SUMMARY:Rencontre-Dédicaces « Aincourt, le camp oublié » - 30 mai 2026
CATEGORIES:Visites guidées / Ateliers / Stages
DESCRIPTION:Samedi 30 mai, la médiathèque Georges-Duhamel accueille la 
 rencontre-dédicaces Aincourt, le camp oublié, en présence 
 de l’historien et auteur Roger Colombier.  Proposé dans 
 le cadre de Mantais, Mémoires et Résistances, ce 
 rendez-vous gratuit et tout public invite à redécouvrir 
 une page méconnue de l’histoire locale et nationale.
LOCATION:Médiathèque Georges-Duhamel
END:VEVENT
END:VCALENDAR