BEGIN:VCALENDAR
VERSION:2.0
PRODID:-//TYPO3/NONSGML News system (news)//EN
BEGIN:VEVENT
UID:news-6640@www.manteslajolie.fr
DTSTAMP:20260209T101803
DTSTART:20260429T100000
DTEND:20260429T110000
SUMMARY:Parcours conté - Le Voyage de Maximilien - 29 avril 2026
CATEGORIES:Musée, Visites guidées / Ateliers / Stages
DESCRIPTION:Enfants de 3 – 5 ans et leur famille Venez découvrir les 
 œuvres du musée à travers une déambulation contemplative 
 et multi-sensorielle adaptée aux tout-petits !
LOCATION:Musée de l'Hôtel-Dieu
END:VEVENT
END:VCALENDAR