BEGIN:VCALENDAR
VERSION:2.0
PRODID:-//TYPO3/NONSGML News system (news)//EN
BEGIN:VEVENT
UID:news-6679@www.manteslajolie.fr
DTSTAMP:20260224T174925
DTSTART:20260603T133000
DTEND:20260603T170000
SUMMARY:Opération Quartier Propre - 3 juin 2026
CATEGORIES:Santé & Solidarité
DESCRIPTION:Mercredi 3 juin, le CVS Peintres/Médecins organise une 
 Opération Quartier Propre devant Matisse.  Parents, 
 enfants et partenaires sont invités à participer à cette 
 action citoyenne pour sensibiliser au respect de 
 l’environnement et améliorer le cadre de vie du quartier.
END:VEVENT
END:VCALENDAR