BEGIN:VCALENDAR
VERSION:2.0
PRODID:-//TYPO3/NONSGML News system (news)//EN
BEGIN:VEVENT
UID:news-6675@www.manteslajolie.fr
DTSTAMP:20260224T170640
DTSTART:20260612T163000
DTEND:20260612T213000
SUMMARY:Mantes-en-Talent - 12 juin 2026
CATEGORIES:Festivités
DESCRIPTION:Le 12 juin, le CVS de Gassicourt célèbre la créativité 
 locale avec Mantes-en-Talent.  Un rendez-vous festif et 
 gratuit pour découvrir, lors d’un vernissage et d’un 
 concert, les talents du Mantois dans une ambiance conviviale 
 et ouverte à tous.
LOCATION:Centre de Vie Sociale (CVS) de Gassicourt
END:VEVENT
END:VCALENDAR