BEGIN:VCALENDAR
VERSION:2.0
PRODID:-//TYPO3/NONSGML News system (news)//EN
BEGIN:VEVENT
UID:news-6827@www.manteslajolie.fr
DTSTAMP:20260422T143037
DTSTART:20260512T200000
DTEND:20260512T200000
SUMMARY:Les Saisons de la transition - Session printemps 2026
CATEGORIES:Spectacles
DESCRIPTION:Les Saisons de la transition, en partenariat avec les 
 Biocoopains, le Mantois en Transition, le Collectif Vélo du 
 Mantois et Emmaüs Follainville-Dennemont sont 4 rendez-vous 
 au fil des saisons autour de l’environnement et des 
 préoccupations écologiques. Au programme de la session : 
 projection du film Le VIVANT qui se défend de Vincent 
 Verzat suivie d'un échange avec le public. 
LOCATION:Collectif 12
END:VEVENT
END:VCALENDAR