BEGIN:VCALENDAR
VERSION:2.0
PRODID:-//TYPO3/NONSGML News system (news)//EN
BEGIN:VEVENT
UID:news-6581@www.manteslajolie.fr
DTSTAMP:20260128T110604
DTSTART:20260604T093000
DTEND:20260604T110000
SUMMARY:Les ateliers de bases informatiques - 4 juin 2026 
CATEGORIES:News, Visites guidées / Ateliers / Stages
DESCRIPTION:Entrée libre sur inscription uniquement Participez aux 
 ateliers de bases informatiques pour adultes.  Découvrez 
 les bases de l'informatique, profitez d'une présentation 
 générale de l'ordinateur, du clavier, de la souris, du 
 bureau, et de la navigation sur internet.   
LOCATION:Centre de Vie Sociale (CVS) Aimé-Césaire 
END:VEVENT
END:VCALENDAR