BEGIN:VCALENDAR
VERSION:2.0
PRODID:-//TYPO3/NONSGML News system (news)//EN
BEGIN:VEVENT
UID:news-6535@www.manteslajolie.fr
DTSTAMP:20260129T171027
DTSTART:20260530T143000
DTEND:20260530T160000
SUMMARY:Le Labo des p’tits scientifiques - 30 mai 2026
CATEGORIES:Famille, Jeunesse, Ludothèques, Visites guidées / Ateliers / Stages
DESCRIPTION:Quand la curiosité des plus jeunes rencontre le jeu, cela 
 donne une saison d’ateliers gratuits et (ré)créatifs à 
 ne pas manquer ! La ludothèque Chopin ouvre ses portes aux 
 petits scientifiques en herbe et aux inventeurs de jeux, le 
 temps de plusieurs rendez-vous animés par des intervenants 
 passionnés.
LOCATION:Ludothèque Chopin
END:VEVENT
END:VCALENDAR