BEGIN:VCALENDAR
VERSION:2.0
PRODID:-//TYPO3/NONSGML News system (news)//EN
BEGIN:VEVENT
UID:news-6185@www.manteslajolie.fr
DTSTAMP:20251030T171302
DTSTART:20260611T180000
DTEND:20260611T233000
SUMMARY:Jam Session - Scène ouverte musicale - 11 juin 2026
CATEGORIES:Spectacles
DESCRIPTION:Une Jam Session, c’est avant tout une séance musicale 
 d’improvisation à laquelle peuvent se joindre différents 
 musiciens d’horizons variés et d’esthétiques 
 multiples. C’est dans cet esprit de rencontres 
 fraternelles et complices que s'organisent les Jams Sessions 
 à l’Espace Brassens.
LOCATION:Espace Brassens
END:VEVENT
END:VCALENDAR