BEGIN:VCALENDAR
VERSION:2.0
PRODID:-//TYPO3/NONSGML News system (news)//EN
BEGIN:VEVENT
UID:news-6500@www.manteslajolie.fr
DTSTAMP:20260113T140757
DTSTART:20260617T150000
DTEND:20260617T153000
SUMMARY:Heure du conte - 17 juin 2026
CATEGORIES:Famille, Jeunesse, Médiathèques
DESCRIPTION:Tout public, dès 3 ans Un rendez-vous régulier pour 
 petites et grandes oreilles : venez découvrir avec bonheur 
 le monde fabuleux des contes et des histoires imaginaires. 
LOCATION:Médiathèque Louis-Aragon
END:VEVENT
END:VCALENDAR