BEGIN:VCALENDAR
VERSION:2.0
PRODID:-//TYPO3/NONSGML News system (news)//EN
BEGIN:VEVENT
UID:news-6674@www.manteslajolie.fr
DTSTAMP:20260224T165242
DTSTART:20260529T180000
DTEND:20260529T210000
SUMMARY:Fête des Voisins - 2026
CATEGORIES:Festivités
DESCRIPTION:Le 29 mai, voisins et familles se retrouvent pour un moment 
 convivial au terrain de l'école Rouge et Bleu de la 
 Fondation PSG.
LOCATION:Fondation PSG – école Rouge & Bleu
END:VEVENT
END:VCALENDAR