BEGIN:VCALENDAR
VERSION:2.0
PRODID:-//TYPO3/NONSGML News system (news)//EN
BEGIN:VEVENT
UID:news-6766@www.manteslajolie.fr
DTSTAMP:20260403T172303
DTSTART:20260919T150000
DTEND:20260919T150000
SUMMARY:Festival International d'Orgue "Concert sur l'orgue Sixsmith" + Visite - Journée européenne du patrimoine - 19 septembre 2026
CATEGORIES:Spectacles
DESCRIPTION:Entrée gratuite | Participation libre Le Festival 
 International d’Orgue de Mantes-la-Jolie vous propose une 
 série de concerts et récitals exceptionnels, au sein de la 
 collégiale Notre-Dame et de l'église 
 Sainte-Anne. Assistez à un concert sur l'orgue Sixsmith de 
 l'église Sainte-Anne de Gassicourt dans le cadre de la 
 Journée européenne du patrimoine + profitez d'une visite 
 guidée (sur&hellip;
LOCATION:Église Sainte-Anne de Gassicourt 
END:VEVENT
END:VCALENDAR