BEGIN:VCALENDAR
VERSION:2.0
PRODID:-//TYPO3/NONSGML News system (news)//EN
BEGIN:VEVENT
UID:news-6761@www.manteslajolie.fr
DTSTAMP:20260403T170755
DTSTART:20260920T133000
DTEND:20260920T133000
SUMMARY:Festival International d'Orgue "Concert sur les 3 orgues" + Visite de la Collégiale - Journée européenne du patrimoine - 20 septembre 2026
CATEGORIES:Spectacles
DESCRIPTION:Entrée gratuite | Participation libre Le Festival 
 International d’Orgue de Mantes-la-Jolie vous propose une 
 série de concerts et récitals exceptionnels, au sein de la 
 collégiale Notre-Dame. Assistez à un concert sur les 3 
 orgues de la Collégiale dans le cadre de la Journée 
 européenne du patrimoine + profitez d'une visite guidée 
 de la Collégiale (sur réservation).
LOCATION:Collégiale Notre-Dame
END:VEVENT
END:VCALENDAR