BEGIN:VCALENDAR
VERSION:2.0
PRODID:-//TYPO3/NONSGML News system (news)//EN
BEGIN:VEVENT
UID:news-6756@www.manteslajolie.fr
DTSTAMP:20260403T165853
DTSTART:20260531T150000
DTEND:20260531T150000
SUMMARY:Festival International d'Orgue "Concert Maximilien LUCE sur les trois orgues" + Visite de la Collégiale - 31 mai 2026
CATEGORIES:Spectacles
DESCRIPTION:Entrée gratuite Participation libre Le Festival 
 International d’Orgue de Mantes-la-Jolie vous propose une 
 série de concerts et récitals exceptionnels, au sein de la 
 collégiale Notre-Dame depuis le 31 mai. Assistez à un 
 concert sur les 3 orgues de la Collégiale : Cogez, Danion & 
 Merklin
LOCATION:Collégiale Notre-Dame
END:VEVENT
END:VCALENDAR