BEGIN:VCALENDAR
VERSION:2.0
PRODID:-//TYPO3/NONSGML News system (news)//EN
BEGIN:VEVENT
UID:news-6765@www.manteslajolie.fr
DTSTAMP:20260403T171619
DTSTART:20260614T160000
DTEND:20260614T160000
SUMMARY:Festival International d'Orgue "Concert d'ouverture sur les 3 orgues" - 14 juin 2026
CATEGORIES:Spectacles
DESCRIPTION:Entrée gratuite Participation libre Le Festival 
 International d’Orgue de Mantes-la-Jolie vous propose une 
 série de concerts et récitals exceptionnels, au sein de la 
 collégiale Notre-Dame. Assistez à un concert de Noël sur 
 les 3 orgues de la Collégiale : Cogez, Danion & Merklin, 
 par David Hirst
LOCATION:Collégiale Notre-Dame
END:VEVENT
END:VCALENDAR