BEGIN:VCALENDAR
VERSION:2.0
PRODID:-//TYPO3/NONSGML News system (news)//EN
BEGIN:VEVENT
UID:news-6764@www.manteslajolie.fr
DTSTAMP:20260403T171423
DTSTART:20261011T160000
DTEND:20261011T160000
SUMMARY:Festival International d'Orgue "Concert de clôture sur 3 orgues" - 11 octobre 2026
CATEGORIES:Spectacles
DESCRIPTION:Entrée gratuite Participation libre Le Festival 
 International d’Orgue de Mantes-la-Jolie vous propose une 
 série de concerts et récitals exceptionnels, au sein de la 
 collégiale Notre-Dame. A 16h,assistez au "Concert de 
 clôture sur les 3 orgues de la Collégiale : Cogez, Danion 
 & Merklin" + Profitez d'une visite guidée de la Collégiale 
 dès 15h (sur réservation)
LOCATION:Collégiale Notre-Dame
END:VEVENT
END:VCALENDAR