BEGIN:VCALENDAR
VERSION:2.0
PRODID:-//TYPO3/NONSGML News system (news)//EN
BEGIN:VEVENT
UID:news-6797@www.manteslajolie.fr
DTSTAMP:20260415T114821
DTSTART:20260505T000000
DTEND:20260526T000000
SUMMARY:Exposition "Les super-héros : leur histoire en France"
CATEGORIES:Expositions, Médiathèques
DESCRIPTION:Gratuit | Tout public Plongez dans l’univers des 
 super-héros. 
LOCATION:Médiathèque Louis-Aragon
END:VEVENT
END:VCALENDAR