BEGIN:VCALENDAR
VERSION:2.0
PRODID:-//TYPO3/NONSGML News system (news)//EN
BEGIN:VEVENT
UID:news-6375@www.manteslajolie.fr
DTSTAMP:20260317T160339
DTSTART:20260520T000000
DTEND:20260920T000000
SUMMARY:Exposition "Le Mantois sauvage" - Fête de la Nature - 2026
CATEGORIES:Expositions
DESCRIPTION:Exposition en plein air. Immersion poétique au cœur de la 
 faune locale, un appel à porter un regard neuf sur les 
 espaces naturels qui nous entourent et à en préserver la 
 beauté.
LOCATION:Ferme pédagogique, Square Brieussel-Bourgeois - Quartier centre-ville, Collégiale Notre-Dame
END:VEVENT
END:VCALENDAR