BEGIN:VCALENDAR
VERSION:2.0
PRODID:-//TYPO3/NONSGML News system (news)//EN
BEGIN:VEVENT
UID:news-6828@www.manteslajolie.fr
DTSTAMP:20260422T155401
DTSTART:20260507T000000
DTEND:20260530T000000
SUMMARY:Exposition BD « L’Escadron bleu, 1945 » - du 7 au 30 mai 2026
CATEGORIES:Expositions
DESCRIPTION:Du 7 au 30 mai 2026, la médiathèque Georges-Duhamel 
 accueille l’exposition BD L’Escadron bleu, 1945, 
 proposée dans le cadre du dispositif Mantais, Mémoires et 
 Résistances. Gratuite et ouverte à tous, elle invite le 
 public à découvrir, à travers la bande dessinée, une 
 page méconnue de la Seconde Guerre mondiale.
LOCATION:Médiathèque Georges-Duhamel
END:VEVENT
END:VCALENDAR