BEGIN:VCALENDAR
VERSION:2.0
PRODID:-//TYPO3/NONSGML News system (news)//EN
BEGIN:VEVENT
UID:news-6791@www.manteslajolie.fr
DTSTAMP:20260416T163428
DTSTART:20260523T153000
DTEND:20260523T170000
SUMMARY:Escape game au musée - Nuit européenne des musées 2026
CATEGORIES:Musée, Visites guidées / Ateliers / Stages
DESCRIPTION:Tout public à partir de 10 ans. Uniquement sur 
 réservation. Un individu mystérieux prétend qu’un 
 secret se cache au musée de l’Hôtel-Dieu. Devenez 
 détective le temps d’un escape game et résolvez les 
 énigmes dissimulées parmi les œuvres pour ouvrir un 
 coffre-fort resté fermé depuis des décennies !
LOCATION:Musée de l'Hôtel-Dieu
END:VEVENT
END:VCALENDAR