BEGIN:VCALENDAR
VERSION:2.0
PRODID:-//TYPO3/NONSGML News system (news)//EN
BEGIN:VEVENT
UID:news-6816@www.manteslajolie.fr
DTSTAMP:20260422T105317
DTSTART:20260622T190000
DTEND:20260622T233000
SUMMARY:Conseil Municipal du lundi 22 juin 2026
CATEGORIES:Conseil municipal
DESCRIPTION:Conseil Municipal - Hôtel de Ville - Salle du Conseil + 
 Live Facebook
LOCATION:Hôtel de Ville
END:VEVENT
END:VCALENDAR