BEGIN:VCALENDAR
VERSION:2.0
PRODID:-//TYPO3/NONSGML News system (news)//EN
BEGIN:VEVENT
UID:news-6658@www.manteslajolie.fr
DTSTAMP:20260220T115452
DTSTART:20260504T183000
DTEND:20260504T200000
SUMMARY:Conférence "Le Val Fourré vu de l’intérieur" - 4 mai 2026
CATEGORIES:Musée, Visites guidées / Ateliers / Stages
DESCRIPTION:Tout public | Gratuit Dans le cadre de l'exposition "Office 
 du tourisme du Val Fourré"
LOCATION:Musée de l'Hôtel-Dieu
END:VEVENT
END:VCALENDAR