BEGIN:VCALENDAR
VERSION:2.0
PRODID:-//TYPO3/NONSGML News system (news)//EN
BEGIN:VEVENT
UID:news-6666@www.manteslajolie.fr
DTSTAMP:20260319T090530
DTSTART:20260518T183000
DTEND:20260518T200000
SUMMARY:Conférence - "La mémoire des bombardements à Mantes" dans le cadre de "Mémoires et Résistance"
CATEGORIES:Visites guidées / Ateliers / Stages
DESCRIPTION:Gratuit. Découvrez comment la population a-t-elle été 
 protégée lors de ces bombardements.
LOCATION:Espace Brassens
END:VEVENT
END:VCALENDAR