BEGIN:VCALENDAR
VERSION:2.0
PRODID:-//TYPO3/NONSGML News system (news)//EN
BEGIN:VEVENT
UID:news-6754@www.manteslajolie.fr
DTSTAMP:20260403T115506
DTSTART:20260424T203000
DTEND:20260424T203000
SUMMARY:Concert - MANU VERGEADE & ROMAIN PETITE - 4TET - Blues Rock - 24 avril 2026
CATEGORIES:Spectacles
DESCRIPTION:La péniche Le Boucanier vous propose chaque vendredi une 
 programmation musicale professionnelle. Ce printemps, 
 artistes nationaux et internationaux invitent le public à 
 voyager entre swing, rock, jazz et groove dans une ambiance 
 conviviale. Découvrez : MANU VERGEADE & ROMAIN PETITE - 
 4TET
LOCATION:Péniche Le Boucanier
END:VEVENT
END:VCALENDAR