BEGIN:VCALENDAR
VERSION:2.0
PRODID:-//TYPO3/NONSGML News system (news)//EN
BEGIN:VEVENT
UID:news-6614@www.manteslajolie.fr
DTSTAMP:20260312T103422
DTSTART:20260529T203000
DTEND:20260529T203000
SUMMARY:Concert - DJ LORD FUNK + CUT KILLER - 2026
CATEGORIES:Spectacles
DESCRIPTION:Deux figures majeures de la culture hip-hop se retrouvent 
 pour une soirée exceptionnelle : DJ Lord Funk et Cut 
 Killer. Entre patrimoine musical, performance live et 
 transmission, cet événement propose concerts, projection, 
 conférence et atelier DJ gratuits pour plonger au cœur de 
 la culture urbaine.
LOCATION:Espace Brassens
END:VEVENT
END:VCALENDAR