BEGIN:VCALENDAR
VERSION:2.0
PRODID:-//TYPO3/NONSGML News system (news)//EN
BEGIN:VEVENT
UID:news-6712@www.manteslajolie.fr
DTSTAMP:20260310T112419
DTSTART:20260425T140000
DTEND:20260425T160000
SUMMARY:Club des lecteurs papoteurs - 25 avril 2026
CATEGORIES:Famille, Médiathèques
DESCRIPTION:Gratuit | Sur inscription | A partir de 8 ans Venez 
 échanger autour de romans, de BD, mangas mais aussi de 
 films pour un moment convivial, avec une présentation des 
 nouveautés de la médiathèque en avant-première.
LOCATION:Médiathèque Louis-Aragon
END:VEVENT
END:VCALENDAR