BEGIN:VCALENDAR
VERSION:2.0
PRODID:-//TYPO3/NONSGML News system (news)//EN
BEGIN:VEVENT
UID:news-6693@www.manteslajolie.fr
DTSTAMP:20260226T162607
DTSTART:20260620T153000
DTEND:20260620T173000
SUMMARY:Club de lecture manga - 20 juin 2026
CATEGORIES:Médiathèques
DESCRIPTION:Gratuit La Médiathèque G.-Duhamel lance son Club de 
 lecture manga !  Un rendez-vous convivial, gratuit et 
 ouvert dès 7 ans, pour partager ses coups de cœur et 
 échanger entre passionnés autour de l’univers du manga.
LOCATION:Médiathèque Georges-Duhamel
END:VEVENT
END:VCALENDAR