BEGIN:VCALENDAR
VERSION:2.0
PRODID:-//TYPO3/NONSGML News system (news)//EN
BEGIN:VEVENT
UID:news-6513@www.manteslajolie.fr
DTSTAMP:20260113T145815
DTSTART:20260515T183000
DTEND:20260515T203000
SUMMARY:Club de lecture Adulte - 15 mai 2026
CATEGORIES:Médiathèques
DESCRIPTION:Adulte Vous aimez  lire ou vous avez envie de vous y 
 remettre ? Vous voulez partager vos coups de cœur (ou vos 
 coups de griffe)? Vous cherchez des recommandations de 
 lecture ? Le club est fait pour vous !  Venez partager vos 
 lectures et de découvrir de nouveaux univers autour d'une 
 boisson et de petites douceurs.
LOCATION:Médiathèque Louis-Aragon
END:VEVENT
END:VCALENDAR