BEGIN:VCALENDAR
VERSION:2.0
PRODID:-//TYPO3/NONSGML News system (news)//EN
BEGIN:VEVENT
UID:news-6826@www.manteslajolie.fr
DTSTAMP:20260422T120556
DTSTART:20260517T150000
DTEND:20260517T170000
SUMMARY:Circuit pédestre « Mantes sous l’occupation » dans le cadre de Mémoires et Résistance - 2026
CATEGORIES:Cérémonie
DESCRIPTION:Gratuit | Sur réservation Tout public Participez à un 
 circuit pédestre « Mantes sous l’occupation » organisé 
 dans le cadre de Mémoires et Résistance.
LOCATION:Musée de l'Hôtel-Dieu
END:VEVENT
END:VCALENDAR