BEGIN:VCALENDAR
VERSION:2.0
PRODID:-//TYPO3/NONSGML News system (news)//EN
BEGIN:VEVENT
UID:news-6795@www.manteslajolie.fr
DTSTAMP:20260415T140545
DTSTART:20260522T190000
DTEND:20260522T213000
SUMMARY:Ciné-soupe - 22 mai 2026
CATEGORIES:Médiathèques
DESCRIPTION:Gratuit | Tout public Découvrez le film "Venise n'est pas 
 en Italie" et dégustez une soupe Minestrone 
LOCATION:Médiathèque Louis-Aragon
END:VEVENT
END:VCALENDAR