BEGIN:VCALENDAR
VERSION:2.0
PRODID:-//TYPO3/NONSGML News system (news)//EN
BEGIN:VEVENT
UID:news-6408@www.manteslajolie.fr
DTSTAMP:20260316T113432
DTSTART:20260426T102000
DTEND:20260426T102000
SUMMARY:Cérémonie - Souvenir de la Déportation - 26 avril 2026
CATEGORIES:Cérémonie
DESCRIPTION:Participez à la journée nationale du souvenir des victimes 
 et des héros de la Déportation. Organisée chaque année 
 à la même date, cette cérémonie également appelée, 
 "Souvenir de la Déportation", est un moment d’unité 
 nationale et de cohésion en hommage au souvenir des 
 victimes et des héros de la Déportation.
LOCATION:Square Brieussel-Bourgeois - Quartier centre-ville
END:VEVENT
END:VCALENDAR