BEGIN:VCALENDAR
VERSION:2.0
PRODID:-//TYPO3/NONSGML News system (news)//EN
BEGIN:VEVENT
UID:news-6405@www.manteslajolie.fr
DTSTAMP:20260316T114231
DTSTART:20260608T102000
DTEND:20260608T123000
SUMMARY:Cérémonie du 8 juin - 2026
CATEGORIES:Cérémonie
DESCRIPTION:Participez à la cérémonie de la journée nationale 
 d'hommage aux "morts pour la France" en Indochine.  Cette 
 journée correspond au jour du transfert de la dépouille du 
 Soldat Inconnu d'Indochine à la nécropole nationale de 
 Notre-Dame de Lorette, le 8 juin 1980.
LOCATION:Square Brieussel-Bourgeois - Quartier centre-ville
END:VEVENT
END:VCALENDAR