BEGIN:VCALENDAR
VERSION:2.0
PRODID:-//TYPO3/NONSGML News system (news)//EN
BEGIN:VEVENT
UID:news-6406@www.manteslajolie.fr
DTSTAMP:20260316T114023
DTSTART:20260527T103000
DTEND:20260527T123000
SUMMARY:Cérémonie du 27 mai - 2026
CATEGORIES:Cérémonie
DESCRIPTION:Participez à la cérémonie de la Journée nationale de la 
 Résistance. Chaque 27 mai est aussi l’occasion d’un 
 message à transmettre en faveur de la lutte pour la 
 liberté et la démocratie. Cérémonie conjointe avec la 
 ville de Mantes-la-Ville.
LOCATION:Stèle de la Résistance
END:VEVENT
END:VCALENDAR