BEGIN:VCALENDAR
VERSION:2.0
PRODID:-//TYPO3/NONSGML News system (news)//EN
BEGIN:VEVENT
UID:news-6404@www.manteslajolie.fr
DTSTAMP:20260108T110500
DTSTART:20260618T103000
DTEND:20260618T103000
SUMMARY:Cérémonie du 18 juin - 2026
CATEGORIES:Cérémonie
DESCRIPTION:Participez à la cérémonie de l'Appel du 18 juin 1940. 
 Cette journée correspond à la Journée nationale 
 commémorative de l'Appel du général de Gaulle à refuser 
 la défaite et poursuivre le combat contre l’ennemi.
LOCATION:Square Brieussel-Bourgeois - Quartier centre-ville
END:VEVENT
END:VCALENDAR