BEGIN:VCALENDAR
VERSION:2.0
PRODID:-//TYPO3/NONSGML News system (news)//EN
BEGIN:VEVENT
UID:news-6463@www.manteslajolie.fr
DTSTAMP:20260120T172226
DTSTART:20260502T100000
DTEND:20260502T120000
SUMMARY:Café des lecteurs - Club de lecture - 2 mai 2026
CATEGORIES:Médiathèques
DESCRIPTION:Ados/Adulte Coups de cœur des bibliothécaires et partage 
 de vos lectures autour d’un café. Quoi de mieux pour se 
 réveiller ?
LOCATION:Médiathèque Georges-Duhamel
END:VEVENT
END:VCALENDAR