BEGIN:VCALENDAR
VERSION:2.0
PRODID:-//TYPO3/NONSGML News system (news)//EN
BEGIN:VEVENT
UID:news-6798@www.manteslajolie.fr
DTSTAMP:20260415T115100
DTSTART:20260502T110000
DTEND:20260502T120000
SUMMARY:Bébés lecteurs - 2 mai 2026
CATEGORIES:Famille, Jeunesse, Médiathèques
DESCRIPTION:De 0 à 3 ans Gratuit sur inscription  La médiathèque 
 Georges-Duhamel vous propose des séances de lecture 
 adaptées aux tout-petits tous les premiers samedis du 
 mois. Un rendez-vous à partager en famille pour de grands 
 moments de complicité. Histoires, comptines, marionnettes 
 et jeux de doigts.
LOCATION:Médiathèque Georges-Duhamel
END:VEVENT
END:VCALENDAR