BEGIN:VCALENDAR
VERSION:2.0
PRODID:-//TYPO3/NONSGML News system (news)//EN
BEGIN:VEVENT
UID:news-6671@www.manteslajolie.fr
DTSTAMP:20260223T145623
DTSTART:20260618T120000
DTEND:20260618T170000
SUMMARY:Barbecue suivi d’une visite du jardin « Les Potes Agés » - juin 2026
CATEGORIES:
DESCRIPTION:Le jeudi 18 juin, les habitants sont invités à partager un 
 moment convivial autour d’un barbecue suivi de la visite 
 du jardin partagé « Les Potes Âgés ».  Un rendez-vous 
 festif et intergénérationnel pour découvrir ce projet 
 citoyen né de l’engagement des seniors du quartier.
LOCATION:Centre de Vie Sociale (CVS) Peintres-Médecins 
END:VEVENT
END:VCALENDAR