BEGIN:VCALENDAR
VERSION:2.0
PRODID:-//TYPO3/NONSGML News system (news)//EN
BEGIN:VEVENT
UID:news-6598@www.manteslajolie.fr
DTSTAMP:20260126T115503
DTSTART:20260604T093000
DTEND:20260604T160000
SUMMARY:Ateliers de Fabrication Numérique – FabLab - 4 juin 2026
CATEGORIES:Visites guidées / Ateliers / Stages
DESCRIPTION:Gratuit, sur inscription CVS Aimé Césaire Le FabLab 
 permet l’accès à différentes machines de fabrication 
 numérique : imprimantes 3D, scanners 3D, presses à chaud 
 (mugs et textiles), découpeuse vinyle, graveuse et 
 découpeuse laser, brodeuse numérique, etc. Créer un jeu 
 ou un objet ludique : Pions, dés, accessoires imprimés ou 
 découpés  
END:VEVENT
END:VCALENDAR