BEGIN:VCALENDAR
VERSION:2.0
PRODID:-//TYPO3/NONSGML News system (news)//EN
BEGIN:VEVENT
UID:news-6600@www.manteslajolie.fr
DTSTAMP:20260126T115632
DTSTART:20260618T093000
DTEND:20260618T160000
SUMMARY:Ateliers de Fabrication Numérique – FabLab - 18 juin 2026
CATEGORIES:Visites guidées / Ateliers / Stages
DESCRIPTION:Gratuit, sur inscription CVS Aimé Césaire Le FabLab 
 permet l’accès à différentes machines de fabrication 
 numérique : imprimantes 3D, scanners 3D, presses à chaud 
 (mugs et textiles), découpeuse vinyle, graveuse et 
 découpeuse laser, brodeuse numérique, etc. Projet libre 
 accompagné : Choix du projet selon les envies des 
 participants   
END:VEVENT
END:VCALENDAR