BEGIN:VCALENDAR
VERSION:2.0
PRODID:-//TYPO3/NONSGML News system (news)//EN
BEGIN:VEVENT
UID:news-6599@www.manteslajolie.fr
DTSTAMP:20260126T115543
DTSTART:20260611T093000
DTEND:20260611T160000
SUMMARY:Ateliers de Fabrication Numérique – FabLab - 11 juin 2026
CATEGORIES:Visites guidées / Ateliers / Stages
DESCRIPTION:Gratuit, sur inscription CVS Aimé Césaire Le FabLab 
 permet l’accès à différentes machines de fabrication 
 numérique : imprimantes 3D, scanners 3D, presses à chaud 
 (mugs et textiles), découpeuse vinyle, graveuse et 
 découpeuse laser, brodeuse numérique, etc. Création 
 décorative : Objet déco en bois (laser)   
END:VEVENT
END:VCALENDAR