BEGIN:VCALENDAR
VERSION:2.0
PRODID:-//TYPO3/NONSGML News system (news)//EN
BEGIN:VEVENT
UID:news-6778@www.manteslajolie.fr
DTSTAMP:20260407T173318
DTSTART:20260421T140000
DTEND:20260424T160000
SUMMARY:Ateliers Artistiques - Centre d'Arts Abel-Lauvray - Vacances de Printemps - 21 au 24 avril 2026
CATEGORIES:Famille, Visites guidées / Ateliers / Stages
DESCRIPTION:A partir de 6 ans + familles Participez aux activités 
 prévues pendant les vacances de printemps dans votre Centre 
 d'Arts Abel-Lauvray.  Les après-midi de 14h à 16h en 
 individuel et en famille. Une ou plusieurs séances sont 
 possibles. 
LOCATION:Centre d'Arts Abel-Lauvray
END:VEVENT
END:VCALENDAR